DatasetHeader Begin
	Version	= "5.2"
	LastUpdated	= Tue Mar 7 13:43:50 GMT 2000
	SenseDate	= Tue Mar 7 13:43:50 GMT 2000
	DataSetType	= ERStorage
	DataType	= Raster
	ByteOrder	= MSBFirst
	CoordinateSpace Begin
		Datum	= "NAD27"
		Projection	= "L2WYMAG"
		CoordinateType	= EN
		Rotation	= 0:0:0.0
	CoordinateSpace End
	RasterInfo Begin
		CellType	= IEEE4ByteReal
		NullCellValue	= 1E+20
		CellInfo Begin
			Xdimension	= 1000.
			Ydimension	= 1000.
		CellInfo End
		NrOfLines	= 506
		NrOfCellsPerLine	= 628
		RegistrationCoord Begin
			Eastings	= -315500.
			Northings	= 477500.
		RegistrationCoord End
		NrOfBands	= 1
		BandId Begin
			Value	= "gravity"
		BandId End
	RasterInfo End
DatasetHeader End
