DatasetHeader Begin
	Version	= "5.2"
	LastUpdated	= Tue Aug 17 14:39:49 GMT 1999
	SenseDate	= Tue Aug 17 14:39:49 GMT 1999
	DataSetType	= ERStorage
	DataType	= Raster
	ByteOrder	= MSBFirst
	CoordinateSpace Begin
		Datum	= "NAD27"
		Projection	= "L2WYMAG"
		CoordinateType	= EN
		Rotation	= 0:0:0.0
	CoordinateSpace End
	RasterInfo Begin
		CellType	= IEEE4ByteReal
		NullCellValue	= 1E+20
		CellInfo Begin
			Xdimension	= 250.
			Ydimension	= 250.
		CellInfo End
		NrOfLines	= 287
		NrOfCellsPerLine	= 242
		RegistrationCoord Begin
			Eastings	= 232375.
			Northings	= 282125.
		RegistrationCoord End
		NrOfBands	= 1
		BandId Begin
			Value	= "magnetics"
		BandId End
	RasterInfo End
DatasetHeader End
