DatasetHeader Begin
	Version	= "5.2"
	LastUpdated	= Tue Aug 17 14:38:12 GMT 1999
	SenseDate	= Tue Aug 17 14:38:12 GMT 1999
	DataSetType	= ERStorage
	DataType	= Raster
	ByteOrder	= MSBFirst
	CoordinateSpace Begin
		Datum	= "NAD27"
		Projection	= "L2WYMAG"
		CoordinateType	= EN
		Rotation	= 0:0:0.0
	CoordinateSpace End
	RasterInfo Begin
		CellType	= IEEE4ByteReal
		NullCellValue	= 1E+20
		CellInfo Begin
			Xdimension	= 150.
			Ydimension	= 150.
		CellInfo End
		NrOfLines	= 148
		NrOfCellsPerLine	= 132
		RegistrationCoord Begin
			Eastings	= 234925.
			Northings	= 400125.
		RegistrationCoord End
		NrOfBands	= 1
		BandId Begin
			Value	= "magnetics"
		BandId End
	RasterInfo End
DatasetHeader End
