DatasetHeader Begin
	Version	= "5.2"
	LastUpdated	= Tue Aug 17 14:36:11 GMT 1999
	SenseDate	= Tue Aug 17 14:36:11 GMT 1999
	DataSetType	= ERStorage
	DataType	= Raster
	ByteOrder	= MSBFirst
	CoordinateSpace Begin
		Datum	= "NAD27"
		Projection	= "L2WYMAG"
		CoordinateType	= EN
		Rotation	= 0:0:0.0
	CoordinateSpace End
	RasterInfo Begin
		CellType	= IEEE4ByteReal
		NullCellValue	= 1E+20
		CellInfo Begin
			Xdimension	= 100.
			Ydimension	= 100.
		CellInfo End
		NrOfLines	= 663
		NrOfCellsPerLine	= 992
		RegistrationCoord Begin
			Eastings	= 18350.
			Northings	= 71350.
		RegistrationCoord End
		NrOfBands	= 1
		BandId Begin
			Value	= "magnetics"
		BandId End
	RasterInfo End
DatasetHeader End
