DatasetHeader Begin
	Version	= "5.2"
	LastUpdated	= Tue Aug 17 14:35:01 GMT 1999
	SenseDate	= Tue Aug 17 14:35:01 GMT 1999
	DataSetType	= ERStorage
	DataType	= Raster
	ByteOrder	= MSBFirst
	CoordinateSpace Begin
		Datum	= "NAD27"
		Projection	= "L2WYMAG"
		CoordinateType	= EN
		Rotation	= 0:0:0.0
	CoordinateSpace End
	RasterInfo Begin
		CellType	= IEEE4ByteReal
		NullCellValue	= 1E+20
		CellInfo Begin
			Xdimension	= 1000.
			Ydimension	= 1000.
		CellInfo End
		NrOfLines	= 453
		NrOfCellsPerLine	= 596
		RegistrationCoord Begin
			Eastings	= -301500.
			Northings	= 450500.
		RegistrationCoord End
		NrOfBands	= 1
		BandId Begin
			Value	= "magnetics"
		BandId End
	RasterInfo End
DatasetHeader End
