10
0.00000000
0.00000000
-10
213849.0
4321504.0
