2.43840000
0.00000000
0.00000000
-2.43840000
257304.91583504
4209966.87842959
