2.43840000
0.00000000
0.00000000
-2.43840000
290151.08684284
4209059.03826492
