10.15999961
0.00000000
0.00000000
-10.15999961
233947.00130236
4267981.11565557
