2.43840000
0.00000000
0.00000000
-2.43840000
314862.76436539
4319492.27922309
