2.43840000
0.00000000
0.00000000
-2.43840000
245877.58779840
4196425.96208865
