10.15999961
0.00000000
0.00000000
-10.15999961
235746.85471369
4323474.16602013
