2.43840000
0.00000000
0.00000000
-2.43840000
256745.47086763
4196097.66189796
