2.43840000
0.00000000
0.00000000
-2.43840000
279675.95761451
4223216.03937825
