0.0333333300
0.0000000000
0.0000000000
-0.0333333300
-84.1166807550
47.2166709450
