6.00000000000000
0.00000000000000
0.00000000000000
-6.00000000000000
561258.09071095858000
5358153.83693310150000
