6.00000000000000
0.00000000000000
0.00000000000000
-6.00000000000000
583774.85125395481000
5289825.47846468350000
