6.00000000000000
0.00000000000000
0.00000000000000
-6.00000000000000
631278.95484286605000
5276527.82397458420000
