6.00000000000000
0.00000000000000
0.00000000000000
-6.00000000000000
630891.78667575528000
5263888.66707197110000
