2.00000000000000
0.00000000000000
0.00000000000000
-2.00000000000000
619845.58781370020000
5257062.73726113610000
