2.00000000000000
0.00000000000000
0.00000000000000
-2.00000000000000
577712.86945508327000
5346835.25887377470000
