DataSetHeader Begin
	Version	= "3.0"
	DataSetType	= ERStorage
	DataType	= Raster
	ByteOrder	= LSBFirst
	CoordinateSpace Begin
		Datum	= "NAD27"
		Projection	= "RAW"
		CoordinateType	= EN
		Units	= "METERS"
	CoordinateSpace End
	RasterInfo Begin
		CellType	= IEEE4ByteReal
		NrOfLines	= 700
		NrOfCellsPerLine	= 666
		NrOfBands	= 1
		NullCellValue	= -1.0e32
		RegistrationCellX	= 0
		RegistrationCellY	= 699
		CellInfo Begin
			Xdimension	= 1000
			Ydimension	= 1000
		CellInfo End
		RegistrationCoord Begin
			Eastings	= -335000
			Northings	= -89500
		RegistrationCoord End
	RasterInfo End
DataSetHeader End
