DataSetHeader Begin
	Version	= "3.0"
	DataSetType	= ERStorage
	DataType	= Raster
	ByteOrder	= LSBFirst
	CoordinateSpace Begin
		Datum	= "RAW"
		Projection	= "RAW"
		CoordinateType	= RAW
	CoordinateSpace End
	RasterInfo Begin
		CellType	= IEEE4ByteReal
		NrOfLines	= 247
		NrOfCellsPerLine	= 499
		NrOfBands	= 1
		NullCellValue	= -1.0e32
		RegistrationCellX	= 0
		RegistrationCellY	= 246
		CellInfo Begin
			Xdimension	= 250
			Ydimension	= 250
		CellInfo End
		RegistrationCoord Begin
			MetersX	= -308125
			MetersY	= 125
		RegistrationCoord End
	RasterInfo End
DataSetHeader End
