DataSetHeader Begin
	Version	= "3.0"
	DataSetType	= ERStorage
	DataType	= Raster
	ByteOrder	= LSBFirst
	CoordinateSpace Begin
		Datum	= "RAW"
		Projection	= "RAW"
		CoordinateType	= RAW
	CoordinateSpace End
	RasterInfo Begin
		CellType	= IEEE4ByteReal
		NrOfLines	= 1277
		NrOfCellsPerLine	= 1170
		NrOfBands	= 1
		NullCellValue	= -1.0e32
		RegistrationCellX	= 0
		RegistrationCellY	= 1276
		CellInfo Begin
			Xdimension	= 500
			Ydimension	= 500
		CellInfo End
		RegistrationCoord Begin
			MetersX	= -297250
			MetersY	= -73750
		RegistrationCoord End
	RasterInfo End
DataSetHeader End
