31.74483306836
0.0
0.0
-31.7448330684
302613.3724165
3997036.627583
