0.000051099786
0.000000000000
0.000000000000
-0.000045118433
-93.659529783626
27.986241899796
