<?xml version="1.0" encoding="ISO-8859-1"?>
<metadata>
	<idinfo>
		<citation>
			<citeinfo>
				<origin>Peter Dartnell</origin>
				<origin>James V. Gardner</origin>
				<pubdate>1999</pubdate>
				<title>ef_back4.tif: Multibeam Backscatter of the East Flower Garden Region</title>
				<geoform Sync="TRUE">remote-sensing image</geoform>
				<serinfo>
					<sername>
Sea-Floor Images and Data from Multibeam Surveys in
San Francisco Bay, Southern California, Hawaii, the
Gulf of Mexico, and Lake Tahoe, California-Nevada
</sername>
					<issue>U.S. Geological Survey Digital Data Series DDS-55</issue>
				</serinfo>
				<pubinfo>
					<pubplace>Menlo Park, CA</pubplace>
					<publish>U.S. Geological Survey</publish>
				</pubinfo>
				<onlink>http://geopubs.wr.usgs.gov/dds/dds-55/</onlink>
				<lworkcit>
					<citeinfo>
						<origin>Kathryn M. Scanlon</origin>
						<origin>Seth D. Ackerman</origin>
						<origin>Jill E. Rozycki</origin>
						<pubdate>2003</pubdate>
						<title>Texture, Carbonate Content, and Preliminary Maps of Surficial Sediments of the Flower Garden Banks Area, Northwestern Gulf of Mexico Outer Shelf.</title>
						<serinfo>
							<sername>Open-File Report</sername>
							<issue>03-002</issue>
						</serinfo>
						<pubinfo>
							<pubplace>Woods Hole, MA</pubplace>
							<publish>U.S. Geological Survey</publish>
						</pubinfo>
						<onlink>http://pubs.usgs.gov/of/2003/of03-002/</onlink>
					</citeinfo>
				</lworkcit>
				<ftname Sync="TRUE">ef_back4.tif</ftname></citeinfo>
		</citation>
		<descript>
			<abstract>
Bathymetry and seafloor backscatter data for the Flower Gardens
National Marine Sanctuary are provided in Raster Grid format.

This data set contains data, metadata, and formal metadata associated
with a marine data collection activity referred to by the USGS/CMG
Activity ID: A-1-97-GM
</abstract>
			<purpose>
These data and information are intended for science researchers,
students from elementary through college, policy makers, and general
public. Pacific Seaflloor Mapping Project Test cruise.
</purpose>
			<supplinf>
Similar information is available for over 1500 other USGS/CMG-related
Activities. If known, available are Activity-specific navigation,
gravity, magnetics, bathymetry, seismic, and sampling data; track
maps; and equipment information; as well as summary overviews, crew
lists, and information about analog materials. Primary access to the
USGS/CMG Information Bank's digital data, analog data, and metadata
is provided through...
http://walrus.wr.usgs.gov/docs/infobank/bear/programs/html/main/infohome.html
This page accomodates a variety of search approaches (e.g., by ship,
by region, by scientist, by equipment type, etc.).

A version of this metadata was orginally written by Peter N. Schweitzer (pschweitzer@usgs.gov) USGS - Reston, VA for Dartnell &amp; Gardener (1999) USGS DDS-55 for TIFF images of the bathymetry and seafloor backscatter for the Flower Gardens National Marine Sanctuary.
The existing metadata was modified to describe the bathymetry and backscatter rasters included on Scanlon, Ackerman &amp; Rozycki (2003) USGS 03-002.
</supplinf>
			<langdata Sync="TRUE">en</langdata></descript>
		<timeperd>
			<timeinfo>
				<sngdate>
					<caldate>1997</caldate>
				</sngdate>
			</timeinfo>
			<current>ground condition</current>
		</timeperd>
		<status>
			<progress>Complete</progress>
			<update>As needed</update>
		</status>
		<spdom>
			<bounding>
				<westbc Sync="TRUE">-93.659555</westbc>
				<eastbc Sync="TRUE">-93.558674</eastbc>
				<northbc Sync="TRUE">27.986264</northbc>
				<southbc Sync="TRUE">27.873043</southbc>
			</bounding>
			<lboundng><leftbc Sync="TRUE">-93.659555</leftbc><rightbc Sync="TRUE">-93.558674</rightbc><bottombc Sync="TRUE">27.873043</bottombc><topbc Sync="TRUE">27.986264</topbc></lboundng></spdom>
		<keywords>
			<theme>
				<themekt>None</themekt>
				<themekey>Marine Geology</themekey>
			</theme>
			<place>
				<placekt>None</placekt>
				<placekey>Gulf of Mexico</placekey>
			</place>
			<place>
				<placekt>Augmented FIPS 10-4 and FIPS 6-4, version 1.0</placekt>
				<placekey>OC16 = Gulf of Mexico</placekey>
			</place>
		</keywords>
		<accconst>Physical materials are under controlled on-site access.</accconst>
		<useconst>
Please recognize the U.S. Geological Survey (USGS) as the source of
this information. Physical materials are under controlled on-site
access. Some USGS information accessed through this means may be
preliminary in nature and presented without the approval of the
Director of the USGS. This information is provided with the
understanding that it is not guaranteed to be correct or complete and
conclusions drawn from such information are the responsibility of the
user. This information is not intended for navigational purposes. Any
use of trade, firm, or product names is for descriptive purposes only
and does not imply endorsement by the U.S. Government.
</useconst>
		<ptcontac>
			<cntinfo>
				<cntperp>
					<cntper>Peter Dartnell</cntper>
					<cntorg>U.S. Geological Survey, GEO-WRG-MCS</cntorg>
				</cntperp>
				<cntaddr>
					<addrtype>mailing address</addrtype>
					<address>
Mail Stop 999
Bldg 15, McKelvey Building
</address>
					<city>Menlo Park</city>
					<state>CA</state>
					<postal>94025</postal>
					<country>USA</country>
				</cntaddr>
				<cntvoice>650-329-5460</cntvoice>
				<cntfax>650-329-5411</cntfax>
				<cntemail>pdartnell@usgs.gov</cntemail>
			</cntinfo>
		</ptcontac>
		<browse>
			<browsen>http://geopubs.wr.usgs.gov/dds/dds-55/pacmaps/images/wf_index.gif</browsen>
			<browsed>
Index map showing mapped area, coastline, and regional bathymetric
contours.  491x417 pixels, 32-bit RGB true color, 30 kbytes.
</browsed>
			<browset>GIF</browset>
		</browse>
		<native Sync="TRUE">Microsoft Windows 2000 Version 5.0 (Build 2195) Service Pack 3; ESRI ArcCatalog 8.2.0.700</native>
		<crossref>
			<citeinfo>
				<origin>United States Geological Survey (USGS), Coastal and Marine Geology (CMG)</origin>
				<pubdate>Unknown</pubdate>
				<title>USGS/CMG Information Bank</title>
				<othercit>Updated daily</othercit>
				<onlink>http://walrus.wr.usgs.gov/docs/infobank/bear/programs/html/main/infohome.html</onlink>
			</citeinfo>
			<citeinfo>
				<origin>Peter Dartnell</origin>
				<origin>James V. Gardner</origin>
				<pubdate>1999</pubdate>
				<title>
Sea-Floor Images and Data from Multibeam Surveys in
San Francisco Bay, Southern California, Hawaii, the
Gulf of Mexico, and Lake Tahoe, California-Nevada
</title>
				<geoform>remote-sensing image</geoform>
				<serinfo>
					<sername>U.S. Geological Survey Digital Data Series</sername>
					<issue>DDS-55</issue>
				</serinfo>
				<pubinfo>
					<pubplace>Menlo Park, CA</pubplace>
					<publish>U.S. Geological Survey</publish>
				</pubinfo>
				<onlink>http://geopubs.wr.usgs.gov/dds/dds-55/</onlink>
			</citeinfo>
		</crossref>
		<natvform Sync="TRUE">Raster Dataset</natvform></idinfo>
	<dataqual>
		<complete>Complete for the timeframe of original publication</complete>
		<lineage>
			<procstep>
				<procdesc>Reprojected from UTM Zone 15 (WGS84) to Geographic (NAD83)</procdesc>
				<procdate>200212</procdate>
				<proccont>
					<cntinfo>
						<cntperp>
							<cntper>Seth Ackerman</cntper>
							<cntorg>US Geological Survey</cntorg>
						</cntperp>
						<cntaddr>
							<addrtype>mailing and physical address</addrtype>
							<address>USGS - Woods Hole Field Center</address>
							<address>384 Woods Hole Rd.</address>
							<city>Woods Hole</city>
							<state>MA</state>
							<postal>02543</postal>
							<country>USA</country>
						</cntaddr>
						<cntvoice>508.548.8700 x2315</cntvoice>
						<cntfax>508.457.2310</cntfax>
						<cntemail>sackerman@usgs.gov</cntemail></cntinfo>
				</proccont>
			</procstep>
			<procstep>
				<procdesc>Metadata imported.</procdesc>
				<srcused>http://geo-nsdi.er.usgs.gov/metadata/digital-data/55/ef.txt</srcused>
				<procdate>20030108</procdate>
				<proccont>
					<cntinfo>
						<cntperp>
							<cntper>Seth Ackerman</cntper>
							<cntorg>US Geological Survey</cntorg>
						</cntperp>
						<cntaddr>
							<addrtype>mailing and physical address</addrtype>
							<address>USGS - Woods Hole Field Center</address>
							<address>384 Woods Hole Rd.</address>
							<city>Woods Hole</city>
							<state>MA</state>
							<postal>02543</postal>
							<country>USA</country>
						</cntaddr>
						<cntvoice>508.548.8700 x2315</cntvoice>
						<cntfax>508.457.2310</cntfax>
						<cntemail>sackerman@usgs.gov</cntemail></cntinfo>
				</proccont>
			</procstep>
			<procstep>
				<procdesc>Metadata edited for this dataset.  Raster Backscatter TIFF for the East Flower Garden Bank.</procdesc>
				<procdate>20030221</procdate>
				<proccont>
					<cntinfo>
						<cntperp>
							<cntper>Seth Ackerman</cntper>
							<cntorg>US Geological Survey</cntorg>
						</cntperp>
						<cntaddr>
							<addrtype>mailing and physical address</addrtype>
							<address>USGS - Woods Hole Field Center</address>
							<address>384 Woods Hole Rd.</address>
							<city>Woods Hole</city>
							<state>MA</state>
							<postal>02543</postal>
							<country>USA</country>
						</cntaddr>
						<cntvoice>508.548.8700 x2315</cntvoice>
						<cntfax>508.457.2310</cntfax>
						<cntemail>sackerman@usgs.gov</cntemail></cntinfo>
				</proccont>
			</procstep>
		</lineage>
	</dataqual>
	<spdoinfo>
		<direct Sync="TRUE">Raster</direct>
		<rastinfo>
			<rasttype Sync="TRUE">Pixel</rasttype>
			<rowcount Sync="TRUE">2509</rowcount>
			<colcount Sync="TRUE">1974</colcount>
			<vrtcount Sync="TRUE">1</vrtcount>
			<rastxsz Sync="TRUE">0.000051</rastxsz><rastysz Sync="TRUE">0.000045</rastysz><rastbpp Sync="TRUE">8</rastbpp><rastorig Sync="TRUE">Upper Left</rastorig><rastcmap Sync="TRUE">TRUE</rastcmap><rastcomp Sync="TRUE">PackBits</rastcomp><rastband Sync="TRUE">1</rastband><rastdtyp Sync="TRUE">pixel codes</rastdtyp><rastplyr Sync="TRUE">TRUE</rastplyr><rastifor Sync="TRUE">TIFF</rastifor></rastinfo>
	</spdoinfo>
	<spref>
		<horizsys>
			<geograph>
				<geogunit Sync="TRUE">Decimal degrees</geogunit>
			</geograph>
			<geodetic>
				<horizdn Sync="TRUE">North American Datum of 1983</horizdn>
				<ellips Sync="TRUE">Geodetic Reference System 80</ellips>
				<semiaxis Sync="TRUE">6378137.000000</semiaxis>
				<denflat Sync="TRUE">298.257222</denflat>
			</geodetic>
			<cordsysn><geogcsn Sync="TRUE">GCS_North_American_1983</geogcsn></cordsysn></horizsys>
	</spref>
	<eainfo>
		<detailed Name="Band_1">
			<enttyp>
				<enttypl Sync="TRUE">Band_1</enttypl>
				<enttypt Sync="TRUE">Table</enttypt><enttypc Sync="TRUE">256</enttypc></enttyp>
			<attr>
				<attrlabl Sync="TRUE">ObjectID</attrlabl>
				<attrdef Sync="TRUE">Internal feature number.</attrdef>
				<attrdefs Sync="TRUE">ESRI</attrdefs>
				<attrdomv>
					<udom Sync="TRUE">Sequential unique whole numbers that are automatically generated.</udom>
				</attrdomv>
				<attalias Sync="TRUE">ObjectID</attalias><attrtype Sync="TRUE">OID</attrtype><attwidth Sync="TRUE">4</attwidth><atprecis Sync="TRUE">0</atprecis><attscale Sync="TRUE">0</attscale></attr>
			<attr>
				<attrlabl Sync="TRUE">Value</attrlabl>
				<attalias Sync="TRUE">Value</attalias><attrtype Sync="TRUE">Integer</attrtype><attwidth Sync="TRUE">0</attwidth><atprecis Sync="TRUE">0</atprecis><attscale Sync="TRUE">0</attscale></attr>
			<attr>
				<attrlabl Sync="TRUE">Red</attrlabl>
				<attalias Sync="TRUE">Red</attalias><attrtype Sync="TRUE">Double</attrtype><attwidth Sync="TRUE">0</attwidth><atprecis Sync="TRUE">0</atprecis><attscale Sync="TRUE">0</attscale></attr>
			<attr>
				<attrlabl Sync="TRUE">Green</attrlabl>
				<attalias Sync="TRUE">Green</attalias><attrtype Sync="TRUE">Double</attrtype><attwidth Sync="TRUE">0</attwidth><atprecis Sync="TRUE">0</atprecis><attscale Sync="TRUE">0</attscale></attr>
			<attr>
				<attrlabl Sync="TRUE">Blue</attrlabl>
				<attalias Sync="TRUE">Blue</attalias><attrtype Sync="TRUE">Double</attrtype><attwidth Sync="TRUE">0</attwidth><atprecis Sync="TRUE">0</atprecis><attscale Sync="TRUE">0</attscale></attr>
		</detailed>
		<overview>
			<eaover>
Bathymetry values are depth in meters
&gt;Cell Size = 5.000
&gt;Data Type: Floating Point
&gt;Number of Rows = 2517
&gt;Number of Columns = 2471

STATISTICS
&gt;Minimum Value = -178.420
&gt;Maximum Value = -16.232
&gt;Mean = -107.947
&gt;Standard Deviation = 23.573

Backscatter values are a digital number (DN) associated with the reflected energy off the seafloor
&gt;Cell Size = 5.000
&gt;Data Type: Floating Point
&gt;Number of Rows = 2517
&gt;Number of Columns = 2471

STATISTICS
&gt;Minimum Value = 0.000
&gt;Maximum Value = 241.364
&gt;Mean = 176.392
&gt;Standard Deviation = 8.294

**NOTE: some of these values may reflect coordinates or statistics of the TIFF images for which this metadata was orginally written and/or to the data prior to reprojection of the grid from UTM zone 15 to NAD83.
</eaover>
			<eadetcit>http://geopubs.wr.usgs.gov/dds/dds-55/pacmaps/openfile.htm</eadetcit>
		</overview>
	</eainfo>
	<distinfo>
		<distrib>
			<cntinfo>
				<cntorgp>
					<cntorg>USGS Information</cntorg>
				</cntorgp>
				<cntaddr>
					<addrtype>mailing address</addrtype>
					<address>Box 25286 Denver Federal Center</address>
					<city>Denver</city>
					<state>CO</state>
					<postal>80225</postal>
					<country>USA</country>
				</cntaddr>
				<cntvoice>1-888-ASK-USGS</cntvoice>
				<cntfax>303-202-4693</cntfax>
				<cntemail>ask@usgs.gov</cntemail>
			</cntinfo>
		</distrib>
		<resdesc>USGS Digital Data Series DDS-55</resdesc>
		<distliab>
Neither the United States Government nor any agency thereof,
nor any of their employees, makes any warranty, expressed or
implied, or assumes any legal liability or responsibility for
the accuracy, completeness, or usefulness of any information,
apparatus, product, or process disclosed in this report, or
represents that its use would not infringe privately owned
rights. Reference therein to any specific commercial product,
process, or service by trade name, trademark, manufacturer,
or otherwise does not necessarily constitute or imply its
endorsement, recommendation, or favoring by the United States
Government or any agency thereof.

Although all data and software published in this report have
been used by the USGS, no warranty, expressed or implied, is
made by the USGS as to the accuracy of the data and related
materials and (or) the functioning of the software. The act
of distribution shall not constitute any such warranty, and
no responsibility is assumed by the USGS in the use of this
data, software, or related materials.
</distliab>
		<stdorder>
			<digform>
				<digtinfo>
					<formname>TIFF</formname>
					<formvern>6.0</formvern>
					<formcont>Seafloor bathymetry and backscatter data</formcont>
					<filedec>gzip -d</filedec>
					<transize Sync="TRUE">4.416</transize>
					<dssize Sync="TRUE">4.416</dssize></digtinfo>
				<digtopt>
					<onlinopt>
						<computer>
							<networka>
								<networkr>http://geopubs.wr.usgs.gov/dds/dds-55/pacmaps/tiffs/wf_bathy.tif.gz</networkr>
								<networkr>http://geopubs.wr.usgs.gov/dds/dds-55/pacmaps/tiffs/wf_back.tif.gz</networkr>
							</networka>
						</computer>
					</onlinopt>
				</digtopt>
			</digform>
			<digform>
				<digtinfo>
					<formname>ArcInfo export (GRID)</formname>
					<formvern>7.2.1</formvern>
					<formcont>Seafloor bathymetry and backscatter</formcont>
					<filedec>gzip -d</filedec>
					<transize Sync="TRUE">4.416</transize>
					<dssize Sync="TRUE">4.416</dssize></digtinfo>
				<digtopt>
					<onlinopt>
						<computer>
							<networka>
								<networkr>http://geopubs.wr.usgs.gov/dds/dds-55/pacmaps/exports/wf_bathy.e00.gz</networkr>
								<networkr>http://geopubs.wr.usgs.gov/dds/dds-55/pacmaps/exports/wf_back.e00.gz</networkr>
							</networka>
						</computer>
					</onlinopt>
				</digtopt>
			</digform>
			<fees>none</fees>
		</stdorder>
	</distinfo>
	<metainfo>
		<metd Sync="TRUE">20030421</metd>
		<metc>
			<cntinfo>
				<cntperp>
					<cntper>Seth Ackerman</cntper>
					<cntorg>U.S. Geological Survey</cntorg>
				</cntperp>
				<cntaddr>
					<addrtype>mailing and physical address</addrtype>
					<address>USGS - Woods Hole Field Center</address>
					<address>384 Woods Hole Rd.</address>
					<city>Woods Hole</city>
					<state>MA</state>
					<postal>02543</postal>
					<country>USA</country>
				</cntaddr>
				<cntvoice>508.548.8700 x2315</cntvoice>
				<cntfax>508.457.2310</cntfax>
				<cntemail>sackerman@usgs.gov</cntemail></cntinfo>
		</metc>
		<metc>
			<cntinfo>
				<cntperp>
					<cntper>Peter N. Schweitzer</cntper>
				</cntperp>
				<cntaddr>
					<addrtype>mailing address</addrtype>
					<address>
Mail Stop 954 National Center
U.S. Geological Survey
12201 Sunrise Valley Drive
</address>
					<city>Reston</city>
					<state>VA</state>
					<postal>20192</postal>
					<country>USA</country>
				</cntaddr>
				<cntvoice>(703) 648-6533</cntvoice>
				<cntfax>(703) 648-6560</cntfax>
				<cntemail>pschweitzer@usgs.gov</cntemail>
			</cntinfo>
		</metc>
		<metstdn Sync="TRUE">FGDC Content Standards for Digital Geospatial Metadata</metstdn>
		<metstdv Sync="TRUE">FGDC-STD-001-1998</metstdv>
		<mettc Sync="TRUE">local time</mettc>
		<metextns>
			<onlink>http://www.esri.com/metadata/esriprof80.html</onlink>
			<metprof>ESRI Metadata Profile</metprof>
		</metextns>
		<langmeta Sync="TRUE">en</langmeta><metextns><onlink Sync="TRUE">http://www.esri.com/metadata/esriprof80.html</onlink><metprof Sync="TRUE">ESRI Metadata Profile</metprof></metextns></metainfo>
	<Esri><MetaID>{ACAB6A4D-7E4E-49A2-A28B-8FE67BCB85BC}</MetaID><CreaDate>20030303</CreaDate><CreaTime>11230400</CreaTime><SyncOnce>FALSE</SyncOnce><SyncDate>20030421</SyncDate><SyncTime>14315200</SyncTime><ModDate>20030421</ModDate><ModTime>14321000</ModTime></Esri><dataIdInfo><envirDesc Sync="TRUE">Microsoft Windows 2000 Version 5.0 (Build 2195) Service Pack 3; ESRI ArcCatalog 8.2.0.700</envirDesc><dataLang><languageCode Sync="TRUE" value="en"></languageCode></dataLang><idCitation><resTitle Sync="TRUE">ef_back4.tif</resTitle><presForm><PresFormCd Sync="TRUE" value="005"></PresFormCd></presForm></idCitation><spatRpType><SpatRepTypCd Sync="TRUE" value="002"></SpatRepTypCd></spatRpType><geoBox esriExtentType="native"><westBL Sync="TRUE">-93.659555</westBL><eastBL Sync="TRUE">-93.558674</eastBL><northBL Sync="TRUE">27.986264</northBL><southBL Sync="TRUE">27.873043</southBL><exTypeCode Sync="TRUE">1</exTypeCode></geoBox><geoBox esriExtentType="decdegrees"><westBL Sync="TRUE">-93.659555</westBL><eastBL Sync="TRUE">-93.558674</eastBL><northBL Sync="TRUE">27.986264</northBL><southBL Sync="TRUE">27.873043</southBL><exTypeCode Sync="TRUE">1</exTypeCode></geoBox></dataIdInfo><mdLang><languageCode Sync="TRUE" value="en"></languageCode></mdLang><mdStanName Sync="TRUE">ISO 19115 Geographic Information - Metadata</mdStanName><mdStanVer Sync="TRUE">DIS_ESRI1.0</mdStanVer><mdChar><CharSetCd Sync="TRUE" value="004"></CharSetCd></mdChar><mdHrLv><ScopeCd Sync="TRUE" value="005"></ScopeCd></mdHrLv><mdHrLvName Sync="TRUE">dataset</mdHrLvName><distInfo><distributor><distorTran><onLineSrc><orDesc Sync="TRUE">002</orDesc><linkage Sync="TRUE">file://\\Sackerman\FGB_OFR\OFR\data\fgb_gis\ef_back4.tif</linkage><protocol Sync="TRUE">Local Area Network</protocol></onLineSrc><transSize Sync="TRUE">4.416</transSize></distorTran><distorFormat><formatName Sync="TRUE">Raster Dataset</formatName></distorFormat></distributor></distInfo><refSysInfo><RefSystem><refSysID><identCode Sync="TRUE">GCS_North_American_1983</identCode></refSysID></RefSystem></refSysInfo><spatRepInfo><GridSpatRep><numDims Sync="TRUE">2</numDims><axDimProps><Dimen><dimName><DimNameTypCd Sync="TRUE" value="002"></DimNameTypCd></dimName><dimSize Sync="TRUE">1974</dimSize><dimResol Sync="TRUE">0.000051</dimResol></Dimen><Dimen><dimName><DimNameTypCd Sync="TRUE" value="001"></DimNameTypCd></dimName><dimSize Sync="TRUE">2509</dimSize><dimResol Sync="TRUE">0.000045</dimResol></Dimen></axDimProps><cellGeo><CellGeoCd Sync="TRUE" value="002"></CellGeoCd></cellGeo><tranParaAv Sync="TRUE">1</tranParaAv></GridSpatRep></spatRepInfo><mdDateSt Sync="TRUE">20030421</mdDateSt></metadata>
