10.00000000
0
0
-10.00000000
466095.00000000
4661375.00000000
