15.4397233201581
0
0
-15.4328523862375
458375.28236166
4677639.28357381
