<?xml version="1.0"?>
<!--<!DOCTYPE metadata SYSTEM "http://www.esri.com/metadata/esriprof80.dtd">-->
<metadata xml:lang="en"><Esri><CreaDate>20030722</CreaDate><CreaTime>13571800</CreaTime><SyncOnce>FALSE</SyncOnce><SyncDate>20031006</SyncDate><SyncTime>08490700</SyncTime><ModDate>20031006</ModDate><ModTime>08490700</ModTime><MetaID>{A4068CFA-6514-473D-9131-C1AFA207111E}</MetaID></Esri><idinfo><native Sync="TRUE">Microsoft Windows 2000 Version 5.0 (Build 2195) Service Pack 4; ESRI ArcCatalog 8.2.0.700</native><descript><langdata Sync="TRUE">en</langdata><abstract>Lake Mead is a large interstate reservoir located in the Mojave Desert of southeastern Nevada and northwestern Arizona. It was impounded in 1935 by the construction of Hoover Dam and is one of a series of multi-purpose reservoirs on the Colorado River. The lake extends 183 km from the mouth of the Grand Canyon to Black Canyon, the site of Hoover Dam, and provides water for residential, commercial, industrial, recreational, and other non-agricultural users in communities across the southwestern United States. Extensive research has been conducted on Lake Mead, but a majority of the studies have involved determining levels of anthropogenic contaminants such as synthetic organic compounds, heavy metals and dissolved ions, furans/dioxins, and nutrient loading in lake water, sediment, and biota (Preissler, et al., 1998; Bevans et al, 1996; Bevans et al., 1998; Covay and Leiker, 1998; LaBounty and Horn, 1997; Paulson, 1981). By contrast, little work has focused on the sediments in the lake and the processes of deposition (Gould, 1951). To address these questions, sidescan-sonar imagery and high-resolution seismic-reflection profiles were collected throughout Lake Mead by the USGS in cooperation with researchers from University of Nevada Las Vegas (UNLV). These data allow a detailed mapping of the surficial geology and the distribution and thickness of sediment that has accumulated in the lake since the completion of Hoover Dam. Results indicate that the accumulation of post-impoundment sediment is primarily restricted to former river and stream beds that are now submerged below the lake while the margins of the lake appear to be devoid of post-impoundment sediment. The sediment cover along the original Colorado River bed is continuous and is typically greater than 10 m thick through much of its length. Sediment thickness in some areas exceeds 35 m while the smaller tributary valleys typically are filled with less than 4 m of sediment. Away from the river beds that are now covered with post-impoundment sediment, pre-impoundment alluvial deposits and rock outcrops are still exposed on the lake floor.</abstract><purpose>This image is provided to aid with the regional perspective of the lake.</purpose></descript><citation><citeinfo><origin>VeeAnn A. Cross</origin><pubdate>2003</pubdate><title>DOQ's around Lake Mead - 4m/pixel resolution: Geographic coordinate system</title><ftname Sync="TRUE">lm_4mdoq.sid</ftname><geoform Sync="TRUE">remote-sensing image</geoform><lworkcit><citeinfo><title>Mapping the floor of Lake Mead (Nevada and Arizona): Preliminary discussion and GIS data release</title><origin>David C. Twichell</origin><origin>VeeAnn A. Cross</origin><origin>Stephen D. Belew</origin><pubdate>2003</pubdate><serinfo><sername>Open-File Report</sername><issue>03-320</issue></serinfo><pubinfo><publish>U.S. Geological Survey</publish><pubplace>Woods Hole Field Center, Woods Hole, MA</pubplace></pubinfo></citeinfo></lworkcit><onlink>
				</onlink></citeinfo></citation><timeperd><current>ground condition</current><timeinfo><rngdates><begdate>19960118</begdate><enddate>19960503</enddate></rngdates></timeinfo></timeperd><status><progress>Complete</progress><update>None planned</update></status><spdom><bounding><westbc Sync="TRUE">-114.946644</westbc><eastbc Sync="TRUE">-113.980055</eastbc><northbc Sync="TRUE">36.577574</northbc><southbc Sync="TRUE">35.977509</southbc></bounding><lboundng><leftbc Sync="TRUE">-114.946644</leftbc><rightbc Sync="TRUE">-113.980055</rightbc><bottombc Sync="TRUE">35.977509</bottombc><topbc Sync="TRUE">36.577574</topbc></lboundng></spdom><keywords><theme><themekt>General</themekt><themekey>CMGP</themekey><themekey>Coastal and Marine Geology Program</themekey><themekey>digital orthophoto quadrangle</themekey><themekey>DOQ</themekey><themekey>images</themekey><themekey>mosaic</themekey><themekey>Mr. SID</themekey><themekey>OFR03-320</themekey><themekey>Open-File report</themekey><themekey>U.S. Geological Survey</themekey><themekey>USGS</themekey><themekey>Woods Hole Field Center</themekey></theme><place><placekt>General</placekt><placekey>Arizona</placekey><placekey>Black Canyon</placekey><placekey>Boulder Basin</placekey><placekey>Colorado River</placekey><placekey>Gregg Basin</placekey><placekey>Hoover Dam</placekey><placekey>Iceberg Canyon</placekey><placekey>Lake Mead</placekey><placekey>Las Vegas</placekey><placekey>Las Vegas Bay</placekey><placekey>Las Vegas Wash</placekey><placekey>Mojave Desert</placekey><placekey>Nevada</placekey><placekey>Overton Arm</placekey><placekey>United States</placekey><placekey>North America</placekey></place></keywords><accconst>none</accconst><useconst>The U.S. Geological Survey must be referenced in any future products or research derived from these data. </useconst><natvform Sync="TRUE">Raster Dataset</natvform><crossref><citeinfo><title>Synthetic organic compounds and carp endrocrinology and histology, Las Vegas Wash and Las Vegas and Callville bays of Lake Mead Nevada</title><origin>H.E. Bevans</origin><origin>S.L. Goodbred</origin><origin>J.F. Miesner</origin><origin>S.A. Watkins</origin><origin>T.S. Gross</origin><origin>N.D. Denslow</origin><origin>T. Choeb</origin><pubdate>1996</pubdate><serinfo><sername>Water-Resources Investigations</sername><issue>96-4266</issue></serinfo><pubinfo><publish>U.S. Geological Survey</publish></pubinfo></citeinfo></crossref><crossref><citeinfo><title>Water quality in the Las Vegas Valley area and the Carson and Truckee River basins, Nevada and California, 1992-1996</title><origin>H.E. Bevans</origin><origin>M.S. Lico</origin><origin>S.J. Lawrence</origin><pubdate>1998</pubdate><serinfo><sername>Circular</sername><issue>1170</issue></serinfo><pubinfo><publish>U.S. Geological Survey</publish></pubinfo></citeinfo></crossref><crossref><citeinfo><title>Synthetic organic compounds in water and bottom sediment from streams, detention basins, and sewage-treatment plant outfalls in Las Vegas Valley, Nevada, 1997</title><origin>K.J. Couvay</origin><origin>T.J. Leiker</origin><pubdate>1998</pubdate><serinfo><sername>Open-File Report</sername><issue>98-633</issue></serinfo><pubinfo><publish>U.S. Geological Survey</publish></pubinfo></citeinfo></crossref><crossref><citeinfo><title>Some quantitative aspects of Lake Mead turbidity currents</title><origin>H.R. Gould</origin><pubdate>1951</pubdate><serinfo><sername>SEPM Special Publication</sername><issue>No. 2</issue></serinfo><pubinfo><publish>Society of Economic Paleontologists and Mineralogists</publish></pubinfo></citeinfo></crossref><crossref><citeinfo><title>The influence of drainage from the Las Vegas Valley on the limnology of Boulder Basin, Lake Mead, Arizona-Nevada</title><origin>J.F. LaBounty</origin><origin>M.J. Horn</origin><pubdate>1997</pubdate><serinfo><sername>Journal of Lake and Reservoir Management</sername><issue>v. 13</issue></serinfo></citeinfo></crossref><crossref><citeinfo><title>Nutrient management with hydroelectric dams on the Colorado River</title><origin>L.J. Paulson</origin><pubdate>1981</pubdate><serinfo><sername>Technical Report</sername><issue>#8</issue></serinfo><pubinfo><pubplace>Department of Biological Sciences, University of Nevada, Las Vegas, Nevada</pubplace><publish>Lake Mead Limnological Research Center</publish></pubinfo></citeinfo></crossref><crossref><citeinfo><title>Water resources data, Nevada, water year 1998</title><origin>A.M. Preissler</origin><origin>G.A. Roach</origin><origin>K.A. Thomas</origin><origin>J.W. Wilson</origin><pubdate>1998</pubdate><serinfo><sername>Water Resources Data Nevada</sername><issue>NV-98-1</issue></serinfo><pubinfo><publish>U.S. Geological Survey</publish></pubinfo></citeinfo></crossref><ptcontac><cntinfo><cntperp><cntper>VeeAnn A. Cross</cntper><cntorg>U.S. Geological Survey</cntorg></cntperp><cntpos>Marine Geologist</cntpos><cntaddr><addrtype>mailing and physical address</addrtype><address>384 Woods Hole Rd.</address><city>Woods Hole</city><state>MA</state><postal>02543-1598</postal></cntaddr><cntvoice>(508) 548-8700 x2251</cntvoice><cntfax>(508) 457-2310</cntfax><cntemail>vatnipp@usgs.gov</cntemail></cntinfo></ptcontac></idinfo><dataIdInfo><envirDesc Sync="TRUE">Microsoft Windows 2000 Version 5.0 (Build 2195) Service Pack 4; ESRI ArcCatalog 8.2.0.700</envirDesc><dataLang><languageCode Sync="TRUE" value="en"></languageCode></dataLang><idCitation><resTitle Sync="TRUE">lm_4mdoq.sid</resTitle><presForm><PresFormCd Sync="TRUE" value="005"></PresFormCd></presForm></idCitation><spatRpType><SpatRepTypCd Sync="TRUE" value="002"></SpatRepTypCd></spatRpType><geoBox esriExtentType="native"><westBL Sync="TRUE">-114.946644</westBL><eastBL Sync="TRUE">-113.980055</eastBL><northBL Sync="TRUE">36.577574</northBL><southBL Sync="TRUE">35.977509</southBL><exTypeCode Sync="TRUE">1</exTypeCode></geoBox><geoBox esriExtentType="decdegrees"><westBL Sync="TRUE">-114.946644</westBL><eastBL Sync="TRUE">-113.980055</eastBL><northBL Sync="TRUE">36.577574</northBL><southBL Sync="TRUE">35.977509</southBL><exTypeCode Sync="TRUE">1</exTypeCode></geoBox></dataIdInfo><metainfo><langmeta Sync="TRUE">en</langmeta><metstdn Sync="TRUE">FGDC Content Standards for Digital Geospatial Metadata</metstdn><metstdv Sync="TRUE">FGDC-STD-001-1998</metstdv><mettc Sync="TRUE">local time</mettc><metc><cntinfo><cntperp><cntper>VeeAnn A. Cross</cntper><cntorg>U.S. Geological Survey</cntorg></cntperp><cntpos>Marine Geologist</cntpos><cntaddr><addrtype>mailing and physical address</addrtype><address>384 Woods Hole Rd.</address><city>Woods Hole</city><state>MA</state><postal>02543-1598</postal></cntaddr><cntvoice>(508) 548-8700 x2251</cntvoice><cntfax>(508) 457-2310</cntfax><cntemail>vatnipp@usgs.gov</cntemail></cntinfo></metc><metd Sync="TRUE">20031006</metd><metextns><onlink Sync="TRUE">http://www.esri.com/metadata/esriprof80.html</onlink><metprof Sync="TRUE">ESRI Metadata Profile</metprof></metextns></metainfo><mdLang><languageCode Sync="TRUE" value="en"></languageCode></mdLang><mdStanName Sync="TRUE">ISO 19115 Geographic Information - Metadata</mdStanName><mdStanVer Sync="TRUE">DIS_ESRI1.0</mdStanVer><mdChar><CharSetCd Sync="TRUE" value="004"></CharSetCd></mdChar><mdHrLv><ScopeCd Sync="TRUE" value="005"></ScopeCd></mdHrLv><mdHrLvName Sync="TRUE">dataset</mdHrLvName><distinfo><resdesc Sync="TRUE">Downloadable Data</resdesc><stdorder><digform><digtinfo><transize Sync="TRUE">20.352</transize><dssize Sync="TRUE">20.352</dssize></digtinfo></digform></stdorder><distrib><cntinfo><cntperp><cntper>David C. Twichell</cntper><cntorg>U.S. Geological Survey</cntorg></cntperp><cntpos>Oceanographer</cntpos><cntaddr><addrtype>mailing and physical address</addrtype><address>384 Woods Hole Rd.</address><city>Woods Hole</city><state>MA</state><postal>02543-1598</postal></cntaddr><cntvoice>(508) 548-8700  x2266</cntvoice><cntfax>(508) 457-2310</cntfax><cntemail>dtwichell@usgs.gov</cntemail></cntinfo></distrib><distliab>These data were prepared by an agency of the United States Government. Neither the United States government nor any agency thereof, nor any of their employees, make any warranty, expressed or implied, or assumes any legal liability or responsibility for the accuracy, completeness, or usefulness of any information, apparatus, product, or process disclosed in this report, or represents that its use would not infringe privately owned rights. Reference therein to any specific commercial product, process, or service by trade name, trademark, manufacturer, or otherwise does not necessarily constitute or imply its endorsement, recommendation, or favoring by the United States government or any agency thereof. Any views and opinions of authors expressed herein do not necessarily state or reflect those of the United States government or any agency thereof. Although all data published in this report have been used by the USGS, no warranty, expressed or implied, is made by the USGS as to the accuracy of the data and related materials and/or the functioning of the software. The act of distribution shall not constitute any such warranty, and no responsibility is assumed by the USGS in the use of this data, software, or related materials.</distliab></distinfo><distInfo><distributor><distorTran><onLineSrc><orDesc Sync="TRUE">002</orDesc><linkage Sync="TRUE">file://\\REDHOOK\LMofr\data\doq\lm_4mdoq.sid</linkage><protocol Sync="TRUE">Local Area Network</protocol></onLineSrc><transSize Sync="TRUE">20.352</transSize></distorTran><distorFormat><formatName Sync="TRUE">Raster Dataset</formatName></distorFormat></distributor></distInfo><spdoinfo><direct Sync="TRUE">Raster</direct><rastinfo><rasttype Sync="TRUE">Pixel</rasttype><rowcount Sync="TRUE">16645</rowcount><colcount Sync="TRUE">21692</colcount><rastxsz Sync="TRUE">0.000045</rastxsz><rastysz Sync="TRUE">0.000036</rastysz><rastbpp Sync="TRUE">8</rastbpp><vrtcount Sync="TRUE">1</vrtcount><rastorig Sync="TRUE">Upper Left</rastorig><rastcmap Sync="TRUE">FALSE</rastcmap><rastcomp Sync="TRUE">Wavelet</rastcomp><rastband Sync="TRUE">1</rastband><rastdtyp Sync="TRUE">pixel codes</rastdtyp><rastplyr Sync="TRUE">TRUE</rastplyr><rastifor Sync="TRUE">MrSID</rastifor></rastinfo></spdoinfo><spatRepInfo><GridSpatRep><numDims Sync="TRUE">2</numDims><axDimProps><Dimen><dimName><DimNameTypCd Sync="TRUE" value="002"></DimNameTypCd></dimName><dimSize Sync="TRUE">21692</dimSize><dimResol Sync="TRUE">0.000045</dimResol></Dimen><Dimen><dimName><DimNameTypCd Sync="TRUE" value="001"></DimNameTypCd></dimName><dimSize Sync="TRUE">16645</dimSize><dimResol Sync="TRUE">0.000036</dimResol></Dimen></axDimProps><cellGeo><CellGeoCd Sync="TRUE" value="002"></CellGeoCd></cellGeo><tranParaAv Sync="TRUE">1</tranParaAv></GridSpatRep></spatRepInfo><spref><horizsys><cordsysn><geogcsn Sync="TRUE">GCS_North_American_1983</geogcsn></cordsysn><geodetic><horizdn Sync="TRUE">North American Datum of 1983</horizdn><ellips Sync="TRUE">Geodetic Reference System 80</ellips><semiaxis Sync="TRUE">6378137.000000</semiaxis><denflat Sync="TRUE">298.257222</denflat></geodetic><geograph><geogunit Sync="TRUE">Decimal degrees</geogunit><latres>0.000045</latres><longres>0.000036</longres></geograph><planar><planci><plance Sync="TRUE">row and column</plance><coordrep><absres Sync="TRUE">0.000045</absres><ordres Sync="TRUE">0.000036</ordres></coordrep></planci></planar></horizsys></spref><eainfo><detailed Name="Band_1"><enttyp><enttypl Sync="TRUE">Band_1</enttypl><enttypt Sync="TRUE">Table</enttypt><enttypc Sync="TRUE">256</enttypc></enttyp><attr><attrlabl Sync="TRUE">ObjectID</attrlabl><attalias Sync="TRUE">ObjectID</attalias><attrtype Sync="TRUE">OID</attrtype><attwidth Sync="TRUE">4</attwidth><atprecis Sync="TRUE">0</atprecis><attscale Sync="TRUE">0</attscale><attrdef Sync="TRUE">Internal feature number.</attrdef><attrdefs Sync="TRUE">ESRI</attrdefs><attrdomv><udom Sync="TRUE">Sequential unique whole numbers that are automatically generated.</udom></attrdomv></attr><attr><attrlabl Sync="TRUE">Value</attrlabl><attalias Sync="TRUE">Value</attalias><attrtype Sync="TRUE">Integer</attrtype><attwidth Sync="TRUE">0</attwidth><atprecis Sync="TRUE">0</atprecis><attscale Sync="TRUE">0</attscale></attr><attr><attrlabl Sync="TRUE">Count</attrlabl><attalias Sync="TRUE">Count</attalias><attrtype Sync="TRUE">Integer</attrtype><attwidth Sync="TRUE">0</attwidth><atprecis Sync="TRUE">0</atprecis><attscale Sync="TRUE">0</attscale></attr></detailed></eainfo><mdDateSt Sync="TRUE">20031006</mdDateSt><refSysInfo><RefSystem><refSysID><identCode Sync="TRUE">GCS_North_American_1983</identCode></refSysID></RefSystem></refSysInfo><dataqual><lineage><procstep><procdesc>Mr. Sid image compression software was used to mosaic 57 individual DOQ's into a single Mr. Sid image.</procdesc></procstep><procstep><procdesc>This large Mr. Sid image was then reprojected from it's original UTM coordinates to a TIF image with geographic coordinates, downsampled to 4m/pixel by BlueMarble's geographic transformer.</procdesc></procstep><procstep><procdesc>The 4m/pixel TIF image was then compressed to a Mr. Sid image.</procdesc></procstep></lineage><logic>These images were collected and processed consistently.</logic><complete>This mosaic represents the complete mosaic necessary to cover the study area.</complete></dataqual></metadata>
