25.00000000
0
0
-25.00000000
691167.51835881
4041022.03057110
