0.00025167
0
0
-0.00025167
-114.87559745
36.48492417
