<?xml version="1.0"?>
<!--<!DOCTYPE metadata SYSTEM "http://www.esri.com/metadata/esriprof80.dtd">-->
<metadata xml:lang="en"><Esri><CreaDate>20030818</CreaDate><CreaTime>17042800</CreaTime><SyncOnce>FALSE</SyncOnce><SyncDate>20031006</SyncDate><SyncTime>08494100</SyncTime><ModDate>20031006</ModDate><ModTime>08494100</ModTime><MetaID>{36BF26CD-BD14-430D-8B3A-E31C6245DD28}</MetaID></Esri><idinfo><native Sync="TRUE">Microsoft Windows 2000 Version 5.0 (Build 2195) Service Pack 4; ESRI ArcCatalog 8.2.0.700</native><descript><langdata Sync="TRUE">en</langdata><abstract>Lake Mead is a large interstate reservoir located in the Mojave Desert of southeastern Nevada and northwestern Arizona.  It was impounded in 1935 by the construction of Hoover Dam and is one of a series of multi-purpose reservoirs on the Colorado River.  The lake extends 183 km from the mouth of the Grand Canyon to Black Canyon, the site of Hoover Dam, and provides water for residential, commercial, industrial, recreational, and other non-agricultural users in communities across the southwestern United States.  Extensive research has been conducted on Lake Mead, but a majority of the studies have involved determining levels of anthropogenic contaminants such as synthetic organic compounds, heavy metals and dissolved ions, furans/dioxins, and nutrient loading in lake water, sediment, and biota (Preissler, et al., 1998; Bevans et al, 1996; Bevans et al., 1998; Covay and Leiker, 1998; LaBounty and Horn, 1997; Paulson, 1981).  By contrast, little work has focused on the sediments in the lake and the processes of deposition (Gould, 1951).  To address these questions, sidescan-sonar imagery and high-resolution seismic-reflection profiles were collected throughout Lake Mead by the USGS in cooperation with researchers from University of Nevada Las Vegas (UNLV).  These data allow a detailed mapping of the surficial geology and the distribution and thickness of sediment that has accumulated in the lake since the completion of Hoover Dam.  Results indicate that the accumulation of post-impoundment sediment is primarily restricted to former river and stream beds that are now submerged below the lake while the margins of the lake appear to be devoid of post-impoundment sediment.  The sediment cover along the original Colorado River bed is continuous and is typically greater than 10 m thick through much of its length.  Sediment thickness in some areas exceeds 35 m while the smaller tributary valleys typically are filled with less than 4 m of sediment.  Away from the river beds that are now covered with post-impoundment sediment, pre-impoundment alluvial deposits and rock outcrops are still exposed on the lake floor.</abstract><purpose>This GIS (ESRI) grid represents the integration of three datasets collected in 1999-2001 and represents the sediment thickness in Lake Mead as mapped with seismic-reflection equipment.</purpose></descript><citation><citeinfo><origin>David C. Twichell</origin><pubdate>2003</pubdate><title>TIFF format of the Isopach Map of Postimpoundment Sediment in Lake Mead - Geographic Coordinates</title><ftname Sync="TRUE">isoimg_geog.tif</ftname><geoform Sync="TRUE">remote-sensing image</geoform><origin>VeeAnn A. Cross</origin><onlink>
				</onlink><lworkcit><citeinfo><title>Mapping the floor of Lake Mead (Nevada and Arizona): Preliminary discussion and GIS data release</title><origin>David C. Twichell</origin><origin>VeeAnn A. Cross</origin><origin>Stephen D. Belew</origin><pubdate>2003</pubdate><serinfo><sername>Open-File Report</sername><issue>03-320</issue></serinfo><pubinfo><publish>U.S. Geological Survey</publish><pubplace>Woods Hole Field Center, Woods Hole, MA</pubplace></pubinfo></citeinfo></lworkcit></citeinfo></citation><timeperd><current>ground condition</current><timeinfo><rngdates><begdate>19990514</begdate><enddate>20010426</enddate></rngdates></timeinfo></timeperd><status><progress>Complete</progress><update>None planned</update></status><spdom><bounding><westbc Sync="TRUE">-114.875723</westbc><eastbc Sync="TRUE">-114.024827</eastbc><northbc Sync="TRUE">36.485050</northbc><southbc Sync="TRUE">36.012414</southbc></bounding><lboundng><leftbc Sync="TRUE">-114.875723</leftbc><rightbc Sync="TRUE">-114.024827</rightbc><bottombc Sync="TRUE">36.012414</bottombc><topbc Sync="TRUE">36.485050</topbc></lboundng></spdom><keywords><theme><themekt>General</themekt><themekey>ArcView</themekey><themekey>CMGP</themekey><themekey>Coastal and Marine Geology Program</themekey><themekey>isopach</themekey><themekey>OFR03-320</themekey><themekey>Open-File report</themekey><themekey>sediment</themekey><themekey>sediment thickness</themekey><themekey>TIFF</themekey><themekey>U.S. Geological Survey</themekey><themekey>USGS</themekey><themekey>Woods Hole Field Center</themekey></theme><place><placekt>General</placekt><placekey>Arizona</placekey><placekey>Black Canyon</placekey><placekey>Boulder Basin</placekey><placekey>Colorado River</placekey><placekey>Gregg Basin</placekey><placekey>Hoover Dam</placekey><placekey>Iceberg Canyon</placekey><placekey>Lake Mead</placekey><placekey>Las Vegas</placekey><placekey>Las Vegas Bay</placekey><placekey>Las Vegas Wash</placekey><placekey>Mojave Desert</placekey><placekey>Nevada</placekey><placekey>Overton Arm</placekey><placekey>United States</placekey><placekey>Virgin Basin</placekey><placekey>North America</placekey></place></keywords><accconst>NONE</accconst><useconst>The U.S. Geological Survey must be referenced as the originator of the dataset in any future products or research derived from these data.</useconst><natvform Sync="TRUE">Raster Dataset</natvform><ptcontac><cntinfo><cntperp><cntper>David C. Twichell</cntper><cntorg>U.S. Geological Survey</cntorg></cntperp><cntpos>Oceanographer</cntpos><cntaddr><addrtype>mailing and physical address</addrtype><address>384 Woods Hole Rd.</address><city>Woods Hole</city><state>MA</state><postal>02543-1598</postal></cntaddr><cntvoice>(508) 548-8700 x2266</cntvoice><cntfax>(508) 457-2310</cntfax><cntemail>dtwichell@usgs.gov</cntemail></cntinfo></ptcontac><crossref><citeinfo><title>Synthetic organic compounds and carp endrocrinology and histology, Las Vegas Wash and Las Vegas and Callville bays of Lake Mead Nevada</title><origin>H.E. Bevans</origin><origin>S.L. Goodbred</origin><origin>J.F. Miesner</origin><origin>S.A. Watkins</origin><origin>T.S. Gross</origin><origin>N.D. Denslow</origin><origin>T. Choeb</origin><pubdate>1996</pubdate><serinfo><sername>Water-Resources Investigations</sername><issue>96-4266</issue></serinfo><pubinfo><publish>U.S. Geological Survey</publish></pubinfo></citeinfo></crossref><crossref><citeinfo><title>Water quality in the Las Vegas Valley area and the Carson and Truckee River basins, Nevada and California, 1992-1996</title><origin>H.E. Bevans</origin><origin>M.S. Lico</origin><origin>S.J. Lawrence</origin><pubdate>1998</pubdate><serinfo><sername>Circular</sername><issue>1170</issue></serinfo><pubinfo><publish>U.S. Geological Survey</publish></pubinfo></citeinfo></crossref><crossref><citeinfo><title>Synthetic organic compounds in water and bottom sediment from streams, detention basins, and sewage-treatment plant outfalls in Las Vegas Valley, Nevada, 1997</title><origin>K.J. Couvay</origin><origin>T.J. Leiker</origin><pubdate>1998</pubdate><serinfo><sername>Open-File Report</sername><issue>98-633</issue></serinfo><pubinfo><publish>U.S. Geological Survey</publish></pubinfo></citeinfo></crossref><crossref><citeinfo><title>Some quantitative aspects of Lake Mead turbidity currents</title><origin>H.R. Gould</origin><pubdate>1951</pubdate><serinfo><sername>SEPM Special Publication</sername><issue>No. 2</issue></serinfo><pubinfo><publish>Society of Economic Paleontologists and Mineralogists</publish></pubinfo></citeinfo></crossref><crossref><citeinfo><title>The influence of drainage from the Las Vegas Valley on the limnology of Boulder Basin, Lake Mead, Arizona-Nevada</title><origin>J.F. LaBounty</origin><origin>M.J. Horn</origin><pubdate>1997</pubdate><serinfo><sername>Journal of Lake and Reservoir Management</sername><issue>v. 13</issue></serinfo></citeinfo></crossref><crossref><citeinfo><title>Nutrient management with hydroelectric dams on the Colorado River</title><origin>L.J. Paulson</origin><pubdate>1981</pubdate><serinfo><sername>Technical Report</sername><issue>#8</issue></serinfo><pubinfo><pubplace>Department of Biological Sciences, University of Nevada, Las Vegas, Nevada</pubplace><publish>Lake Mead Limnological Research Center</publish></pubinfo></citeinfo></crossref><crossref><citeinfo><title>Water resources data, Nevada, water year 1998</title><origin>A.M. Preissler</origin><origin>G.A. Roach</origin><origin>K.A. Thomas</origin><origin>J.W. Wilson</origin><pubdate>1998</pubdate><serinfo><sername>Water Resources Data Nevada</sername><issue>NV-98-1</issue></serinfo><pubinfo><publish>U.S. Geological Survey</publish></pubinfo></citeinfo></crossref></idinfo><dataIdInfo><envirDesc Sync="TRUE">Microsoft Windows 2000 Version 5.0 (Build 2195) Service Pack 4; ESRI ArcCatalog 8.2.0.700</envirDesc><dataLang><languageCode Sync="TRUE" value="en"></languageCode></dataLang><idCitation><resTitle Sync="TRUE">isoimg_geog.tif</resTitle><presForm><PresFormCd Sync="TRUE" value="005"></PresFormCd></presForm></idCitation><spatRpType><SpatRepTypCd Sync="TRUE" value="002"></SpatRepTypCd></spatRpType><geoBox esriExtentType="native"><westBL Sync="TRUE">-114.875723</westBL><eastBL Sync="TRUE">-114.024827</eastBL><northBL Sync="TRUE">36.48505</northBL><southBL Sync="TRUE">36.012414</southBL><exTypeCode Sync="TRUE">1</exTypeCode></geoBox><geoBox esriExtentType="decdegrees"><westBL Sync="TRUE">-114.875723</westBL><eastBL Sync="TRUE">-114.024827</eastBL><northBL Sync="TRUE">36.48505</northBL><southBL Sync="TRUE">36.012414</southBL><exTypeCode Sync="TRUE">1</exTypeCode></geoBox></dataIdInfo><metainfo><langmeta Sync="TRUE">en</langmeta><metstdn Sync="TRUE">FGDC Content Standards for Digital Geospatial Metadata</metstdn><metstdv Sync="TRUE">FGDC-STD-001-1998</metstdv><mettc Sync="TRUE">local time</mettc><metc><cntinfo><cntperp><cntper>VeeAnn A. Cross</cntper><cntorg>U.S. Geological Survey</cntorg></cntperp><cntpos>Marine Geologist</cntpos><cntaddr><addrtype>mailing and physical address</addrtype><address>384 Woods Hole Rd.</address><city>Woods Hole</city><state>MA</state><postal>02543-1598</postal></cntaddr><cntvoice>(508) 548-8700 x2251</cntvoice><cntfax>(508) 457-2310</cntfax><cntemail>vatnipp@usgs.gov</cntemail></cntinfo></metc><metd Sync="TRUE">20031006</metd><metextns><onlink Sync="TRUE">http://www.esri.com/metadata/esriprof80.html</onlink><metprof Sync="TRUE">ESRI Metadata Profile</metprof></metextns></metainfo><mdLang><languageCode Sync="TRUE" value="en"></languageCode></mdLang><mdStanName Sync="TRUE">ISO 19115 Geographic Information - Metadata</mdStanName><mdStanVer Sync="TRUE">DIS_ESRI1.0</mdStanVer><mdChar><CharSetCd Sync="TRUE" value="004"></CharSetCd></mdChar><mdHrLv><ScopeCd Sync="TRUE" value="005"></ScopeCd></mdHrLv><mdHrLvName Sync="TRUE">dataset</mdHrLvName><distinfo><resdesc Sync="TRUE">Downloadable Data</resdesc><stdorder><digform><digtinfo><transize Sync="TRUE">0.149</transize><dssize Sync="TRUE">0.149</dssize></digtinfo></digform></stdorder><distliab>These data were prepared by an agency of the United States Government. Neither the United States government nor any agency thereof, nor any of their employees, make any warranty, expressed or implied, or assumes any legal liability or responsibility for the accuracy, completeness, or usefulness of any information, apparatus, product, or process disclosed in this report, or represents that its use would not infringe privately owned rights. Reference therein to any specific commercial product, process, or service by trade name, trademark, manufacturer, or otherwise does not necessarily constitute or imply its endorsement, recommendation, or favoring by the United States government or any agency thereof. Any views and opinions of authors expressed herein do not necessarily state or reflect those of the United States government or any agency thereof. Although all data published in this report have been used by the USGS, no warranty, expressed or implied, is made by the USGS as to the accuracy of the data and related materials and/or the functioning of the software. The act of distribution shall not constitute any such warranty, and no responsibility is assumed by the USGS in the use of this data, software, or related materials.</distliab><distrib><cntinfo><cntperp><cntper>David C. Twichell</cntper><cntorg>U.S. Geological Survey</cntorg></cntperp><cntpos>Oceanographer</cntpos><cntaddr><addrtype>mailing and physical address</addrtype><address>384 Woods Hole Rd.</address><city>Woods Hole</city><state>MA</state><postal>02543-1598</postal></cntaddr><cntvoice>(508) 548-8700 x2266</cntvoice><cntfax>(508) 457-2310</cntfax><cntemail>dtwichell@usgs.gov</cntemail></cntinfo></distrib></distinfo><distInfo><distributor><distorTran><onLineSrc><orDesc Sync="TRUE">002</orDesc><linkage Sync="TRUE">file://\\REDHOOK\LMofr\data\isopach\isoimg_geog.tif</linkage><protocol Sync="TRUE">Local Area Network</protocol></onLineSrc><transSize Sync="TRUE">0.149</transSize></distorTran><distorFormat><formatName Sync="TRUE">Raster Dataset</formatName></distorFormat></distributor></distInfo><spdoinfo><direct Sync="TRUE">Raster</direct><rastinfo><rasttype Sync="TRUE">Pixel</rasttype><rowcount Sync="TRUE">1878</rowcount><colcount Sync="TRUE">3381</colcount><rastxsz Sync="TRUE">0.000252</rastxsz><rastysz Sync="TRUE">0.000252</rastysz><rastbpp Sync="TRUE">8</rastbpp><vrtcount Sync="TRUE">1</vrtcount><rastorig Sync="TRUE">Upper Left</rastorig><rastcmap Sync="TRUE">TRUE</rastcmap><rastcomp Sync="TRUE">PackBits</rastcomp><rastband Sync="TRUE">1</rastband><rastdtyp Sync="TRUE">pixel codes</rastdtyp><rastplyr Sync="TRUE">FALSE</rastplyr><rastifor Sync="TRUE">TIFF</rastifor></rastinfo></spdoinfo><spatRepInfo><GridSpatRep><numDims Sync="TRUE">2</numDims><axDimProps><Dimen><dimName><DimNameTypCd Sync="TRUE" value="002"></DimNameTypCd></dimName><dimSize Sync="TRUE">3381</dimSize><dimResol Sync="TRUE">0.000252</dimResol></Dimen><Dimen><dimName><DimNameTypCd Sync="TRUE" value="001"></DimNameTypCd></dimName><dimSize Sync="TRUE">1878</dimSize><dimResol Sync="TRUE">0.000252</dimResol></Dimen></axDimProps><cellGeo><CellGeoCd Sync="TRUE" value="002"></CellGeoCd></cellGeo><tranParaAv Sync="TRUE">1</tranParaAv></GridSpatRep></spatRepInfo><spref><horizsys><cordsysn><geogcsn Sync="TRUE">GCS_North_American_1983</geogcsn></cordsysn><geodetic><horizdn Sync="TRUE">North American Datum of 1983</horizdn><ellips Sync="TRUE">Geodetic Reference System 80</ellips><semiaxis Sync="TRUE">6378137.000000</semiaxis><denflat Sync="TRUE">298.257222</denflat></geodetic><geograph><geogunit Sync="TRUE">Decimal degrees</geogunit><latres>0.000252</latres><longres>0.000252</longres></geograph><planar><planci><plance Sync="TRUE">row and column</plance><coordrep><absres Sync="TRUE">0.000252</absres><ordres Sync="TRUE">0.000252</ordres></coordrep></planci></planar></horizsys></spref><mdDateSt Sync="TRUE">20031006</mdDateSt><refSysInfo><RefSystem><refSysID><identCode Sync="TRUE">GCS_North_American_1983</identCode></refSysID></RefSystem></refSysInfo><dataqual><logic>This isopach map represents the integration of three years of data collection. This time frame of data collection can introduce small discrepancies in the sediment thickness.</logic><complete>This dataset is complete for the time period it covers.</complete><posacc><horizpa><horizpar>The navigation system used was a P-Code GPS system.  Navigation was interpolated over as much as a 10 second interval, converted to UTM zone 11 coordinates and rounded to the nearest meter.</horizpar><qhorizpa><horizpav>10-20m</horizpav><horizpae>Nominal accuracy for the system and including rounding errors.</horizpae></qhorizpa></horizpa><vertacc><vertaccr>The nominal resolution of the chirp subbottom system is assumed to be 0.5 meters.  Another uncertainty is the speed of sound in sediment, which for this study is assumed to be 1500 m/sec.  Due to the generally thin nature of the sediment cover, inaccuracies in the speed of sound are not thought to have a high impact.</vertaccr><qvertpa><vertaccv>0.5 meters</vertaccv><vertacce>acquisition system resolution</vertacce></qvertpa></vertacc></posacc><lineage><procstep><procdesc>Seismic-reflecition profiles were interpreted in Landmark seismic interpretation software. The interpreted surfaces included the pre- and post-impoundment surfaces.</procdesc></procstep><procstep><procdesc>A supplemental horizon was created within Landmark which is the difference between the pre-and post-impoundment surfaces.</procdesc></procstep><procstep><procdesc>This thickness horizon was then exported from Landmark as X,Y,Z values in ASCII format.</procdesc></procstep><procstep><procdesc>This ASCII X,Y,Z file was then imported into Earthvision software package.  Within Earthvision, these discrete points were gridded using the default spline gridding technique of earthvision.</procdesc></procstep><procstep><procdesc>The Earthvision grid was then exported as an X,Y,Z ASCII text file.</procdesc></procstep><procstep><procdesc>The Earthvision ASCII text file was then reformatted using an AWK script into an ESRI ASCII grid format.</procdesc></procstep><procstep><procdesc>The ESRI ASCII grid format was imported into ArcView and converted to the standard ESRI grid format.</procdesc></procstep><procstep><procdesc>This grid was then clipped to the sediment limit shapefile.</procdesc></procstep><procstep><procdesc>This UTM grid was then reprojected to the geographic coordinate system using ArcToolbox from ArcGIS version 8.2.</procdesc></procstep><procstep><procdesc>This grid was then converted to a TIFF image maintaining the legend colors using the extension image_convert_georef.avx downloaded from the ESRI website.</procdesc></procstep><procstep><procdesc>This 24-bit TIFF image was then converted to a paletted 8-bit image and saved with pack bit compression in Corel PhotoPaint version 11.</procdesc></procstep></lineage></dataqual><eainfo><detailed Name="Band_1"><enttyp><enttypl Sync="TRUE">Band_1</enttypl><enttypt Sync="TRUE">Table</enttypt><enttypc Sync="TRUE">256</enttypc></enttyp><attr><attrlabl Sync="TRUE">ObjectID</attrlabl><attalias Sync="TRUE">ObjectID</attalias><attrtype Sync="TRUE">OID</attrtype><attwidth Sync="TRUE">4</attwidth><atprecis Sync="TRUE">0</atprecis><attscale Sync="TRUE">0</attscale><attrdef Sync="TRUE">Internal feature number.</attrdef><attrdefs Sync="TRUE">ESRI</attrdefs><attrdomv><udom Sync="TRUE">Sequential unique whole numbers that are automatically generated.</udom></attrdomv></attr><attr><attrlabl Sync="TRUE">Value</attrlabl><attalias Sync="TRUE">Value</attalias><attrtype Sync="TRUE">Integer</attrtype><attwidth Sync="TRUE">0</attwidth><atprecis Sync="TRUE">0</atprecis><attscale Sync="TRUE">0</attscale></attr><attr><attrlabl Sync="TRUE">Red</attrlabl><attalias Sync="TRUE">Red</attalias><attrtype Sync="TRUE">Double</attrtype><attwidth Sync="TRUE">0</attwidth><atprecis Sync="TRUE">0</atprecis><attscale Sync="TRUE">0</attscale></attr><attr><attrlabl Sync="TRUE">Green</attrlabl><attalias Sync="TRUE">Green</attalias><attrtype Sync="TRUE">Double</attrtype><attwidth Sync="TRUE">0</attwidth><atprecis Sync="TRUE">0</atprecis><attscale Sync="TRUE">0</attscale></attr><attr><attrlabl Sync="TRUE">Blue</attrlabl><attalias Sync="TRUE">Blue</attalias><attrtype Sync="TRUE">Double</attrtype><attwidth Sync="TRUE">0</attwidth><atprecis Sync="TRUE">0</atprecis><attscale Sync="TRUE">0</attscale></attr></detailed></eainfo></metadata>
