0.000111398622
0.000000000000
0.000000000000
-0.000090123378
-114.996550722222
36.747150972222
