30.00000000
0
0
-30.00000000
681092.92851829
4068721.76118020
