16.25600086239
0.0
0.0
-16.2560008624
456553.7680015
3274251.713011
