16.25600086239
0.0
0.0
-16.2560008624
455957.1279699
3274283.489012
