16.25600020699
0.0
0.0
-16.256000207
456083.9373441
3274315.445243
