16.256
0.0
0.0
-16.256
456432.168
3274486.904
