16.256
0.0
0.0
-16.256
456359.688
3274446.936
