16.25600058408
0.0
0.0
-16.2560005841
451480.54306
3277224.497001
