1434.629637761
0.0
0.0
-1434.62963776
-629369.485181
2620396.485181
