DatasetHeader Begin
	Version	= "6.3"
	Name	= "NSshublik-basement.ers"
	LastUpdated	= Mon Oct 27 16:26:27 GMT 2003
	DataSetType	= ERStorage
	DataType	= Raster
	ByteOrder	= LSBFirst
	CoordinateSpace Begin
		Datum	= "NAD27"
		Projection	= "METERS"
		CoordinateType	= EN
		Units	= "METERS"
		Rotation	= 0:0:0.0
	CoordinateSpace End
	RasterInfo Begin
		CellType	= IEEE4ByteReal
		NullCellValue	= -1.0000000000000001E+032
		CellInfo Begin
			Xdimension	= 3000
			Ydimension	= 3000
		CellInfo End
		NrOfLines	= 208
		NrOfCellsPerLine	= 435
		RegistrationCoord Begin
			Eastings	= -631500
			Northings	= 2001500
		RegistrationCoord End
		RegistrationCellX	= 0
		RegistrationCellY	= 207
		NrOfBands	= 1
	RasterInfo End
DatasetHeader End
