8.00000000000000
0.00000000000000
0.00000000000000
-8.00000000000000
347277.411
3756910.122
