82.810424630000
0.00000000
0.00000000
-82.810424630000
411064.080777379980
4317342.576395850600
