4.000000000000000
0.000000000000000
0.000000000000000
-4.000000000000000
465002.0000000000
4205598.0000000000
