50.000
0.000
0.000
-50.000
439875.000
4045275.000
