50.000
0.000
0.000
-50.000
440375.000
4155225.000
