50.000
0.000
0.000
-50.000
440275.000
4154425.000
