88.19444046993
0.0
0.0
-88.1944404699
447166.5972282
6768157.561714
